{"text_format":"3","workbook":"xlsx","n_sheets":2,"sheets":["个人信息","不需填写"],"read":"whole","date_system":"1900"}

{"sheet":"个人信息","index":0,"n_rows":32,"n_cols":11,"rows_kept":32,"merged":[[0,0,0,10],[1,0,1,10],[2,9,2,10],[3,0,4,0],[3,1,4,1],[3,2,4,2],[3,3,4,6],[3,8,3,10],[4,8,4,10],[5,1,5,4],[5,8,5,10],[6,1,6,4],[7,1,7,4],[8,1,8,4],[8,6,8,10],[9,0,12,0],[9,3,9,5],[9,6,9,7],[9,8,9,10],[10,3,10,5],[10,6,10,7],[10,8,10,10],[11,3,11,5],[11,6,11,7],[11,8,11,10],[12,3,12,5],[12,6,12,7],[12,8,12,10],[13,0,19,0],[13,1,13,2],[13,4,13,6],[13,7,13,9],[14,1,14,2],[14,4,14,6],[14,7,14,9],[15,1,15,2],[15,4,15,6],[15,7,15,9],[16,1,16,2],[16,4,16,6],[16,7,16,9],[17,1,17,2],[17,4,17,6],[17,7,17,9],[18,1,18,2],[18,4,18,6],[18,7,18,9],[19,1,19,2],[19,4,19,6],[19,7,19,9],[20,0,25,0],[20,1,20,3],[20,4,20,6],[20,9,20,10],[21,1,21,3],[21,4,21,6],[21,9,21,10],[22,1,22,3],[22,4,22,6],[22,9,22,10],[23,1,23,3],[23,4,23,6],[23,9,23,10],[24,1,24,3],[24,4,24,6],[24,9,24,10],[25,1,25,3],[25,4,25,6],[25,9,25,10],[26,0,28,0],[26,3,26,6],[26,7,26,8],[26,9,26,10],[27,3,27,6],[27,7,27,8],[27,9,27,10],[28,3,28,6],[28,7,28,8],[28,9,28,10],[29,1,29,6],[29,7,29,8],[29,9,29,10],[30,1,30,10],[31,0,31,10],[32,0,32,10]]}
["济 川 药 业 集 团 有 限 公 司"]
["应 聘 人 员 信 息 登 记 表"]
["姓  名","xxx","性 别","男","出 生\n年 月",1995.05,"婚 否","未婚","政 治\n面 貌","党员"]
["籍  贯","江苏泰兴","家 庭\n住 址","xxxxxx",{"$nulls":3},"邮 箱"]
[{"$nulls":7},"手 机","xxxxx"]
["身份证\n号  码","xxxx",{"$nulls":3},"最 高\n学 历","本科","技 术\n职 称","xxxxx"]
["毕  业\n院  校","xxxxx",{"$nulls":3},"学 位","学士","英 语\n等 级","四级","民 族","汉"]
["专业","xxxxx",{"$nulls":3},"身  高","180cm","体 重","75kg","视力"]
["QQ号","xxx",{"$nulls":3},"微信号","xxx"]
["家 庭\n主 要\n成 员","姓 名                                       ","关 系","工作单位",null,null,"工作岗位",null,"联系方式"]
[null,"xxx","父亲","xxxxxx",null,null,"xxx",null,"xxxxx"]
[null,"xxx","母亲","xxxxxx",null,null,"xxx",null,"xxxxx"]
[]
["学 习\n\n简 历","起止时间",null,"学 历","专   业",null,null,"毕业院校",null,null,"学校\n性质"]
[null,"    年  月-     年  月",null,"初中",{"$nulls":3},"xxx",null,null,"公办"]
[null,"    年  月-     年  月",null,"高中",{"$nulls":3},"xxx",null,null,"公办"]
[null,"    年  月-     年  月",null,"本科","xxx",null,null,"xxx",null,null,"普通高教"]
[null,"    年  月-     年  月",null,"硕士","xxx",null,null,"xxx",null,null,"普通高教"]
[]
[]
["工 作\n经 历\n社 会\n实 践\n情 况","起止时间",null,null,"工作单位",null,null,"职 务","月 薪","证明人及电话"]
[null,"    年  月-     年  月",null,null,"xxx"]
[null,"    年  月-     年  月",null,null,"xxx"]
[]
[]
[]
["亲 属\n在 本\n公 司\n情 况","姓 名                                       ","关 系","所在中心",{"$nulls":3},"所在部门",null,"工作岗位"]
[null,"xxx","xxx","xxxxxx",{"$nulls":3},"xxx",null,"xx"]
[]
["应聘岗位",{"$nulls":6},"年薪期望值",null,"       万元"]
["本人承诺","1、此表内容真实，且与原单位已无劳动合同关系及劳动纠纷，如虚报或隐瞒事实，一经发现，公司可解雇；\n2、接受公司安排的健康检查，如不能达到公司体检要求，公司不予录用。"]
["注：学习简历初中起填﹔大专以上填写学校性质：\n1﹑普通高等教育 2、成人高等教育 3、高教自学考试 8、电大开放教育 4、远程网络教育 "]

{"sheet":"不需填写","index":1,"n_rows":3,"n_cols":126,"rows_kept":3,"merged":[[0,0,0,24],[0,25,0,49],[0,50,0,64],[0,65,0,85],[0,86,0,110],[0,111,0,125]]}
["个人信息",{"$nulls":24},"学习经历",{"$nulls":24},"外单位工作经历",{"$nulls":14},"本公司工作经历",{"$nulls":20},"家庭成员",{"$nulls":24},"在司亲属情况"]
["序号","姓名","民族","身份证","英语","年薪期望","学历","学位","学校","专业","工作时间","进司时间","毕业时间","中心","部门","岗位","性别","婚姻状况","出生年月","政治面貌","技术职称","籍贯","家庭住址","宅电","手机","起止时间","学历","学校性质","专业","学校","起止时间","学历","学校性质","专业","学校","起止时间","学历","学校性质","专业","学校","起止时间","学历","学校性质","专业","学校","起止时间","学历","学校性质","专业","学校","起止时间","单位名称","岗位","起止时间","单位名称","岗位","起止时间","单位名称","岗位","起止时间","单位名称","岗位","起止时间","单位名称","岗位","起止时间","部门","岗位","起止时间","部门","岗位","起止时间","部门","岗位","起止时间","部门","岗位","起止时间","部门","岗位","起止时间","部门","岗位","起止时间","部门","岗位","姓名","关系","工作单位","岗位","电话","姓名","关系","工作单位","岗位","电话","姓名","关系","工作单位","岗位","电话","姓名","关系","工作单位","岗位","电话","姓名","关系","工作单位","岗位","电话","姓 名                                       ","关 系","所在中心","所在部门","岗位","姓 名                                       ","关 系","所在中心","所在部门","岗位","姓 名                                       ","关 系","所在中心","所在部门","岗位"]
[null,{"$f":"个人信息!B3","v":"xxx"},{"$f":"个人信息!K7","v":"汉"},{"$f":"个人信息!B6","v":"xxxx"},{"$f":"个人信息!I7","v":"四级"},null,{"$f":"个人信息!G6","v":"本科"},{"$f":"个人信息!G7","v":"学士"},{"$f":"个人信息!B7","v":"xxxxx"},{"$f":"个人信息!B8","v":"xxxxx"},{"$nulls":6},{"$f":"个人信息!D3","v":"男"},{"$f":"个人信息!H3","v":"未婚"},{"$f":"个人信息!F3","v":1995.05},{"$f":"个人信息!J3","v":"党员"},{"$f":"个人信息!I6","v":"xxxxx"},{"$f":"个人信息!B4","v":"江苏泰兴"},{"$f":"个人信息!D4","v":"xxxxxx"},null,{"$f":"个人信息!I5","v":"xxxxx"},{"$f":"个人信息!B15","v":"    年  月-     年  月"},{"$f":"个人信息!D15","v":"初中"},{"$f":"个人信息!K15","v":"公办"},null,{"$f":"个人信息!H15","v":"xxx"},{"$f":"个人信息!B16","v":"    年  月-     年  月"},{"$f":"个人信息!D16","v":"高中"},{"$f":"个人信息!K16","v":"公办"},null,{"$f":"个人信息!H16","v":"xxx"},{"$f":"个人信息!B17","v":"    年  月-     年  月"},{"$f":"个人信息!D17","v":"本科"},{"$f":"个人信息!K17","v":"普通高教"},{"$f":"个人信息!E17","v":"xxx"},{"$f":"个人信息!H17","v":"xxx"},{"$f":"个人信息!B18","v":"    年  月-     年  月"},{"$f":"个人信息!D18","v":"硕士"},{"$f":"个人信息!K18","v":"普通高教"},{"$f":"个人信息!E18","v":"xxx"},{"$f":"个人信息!H18","v":"xxx"},{"$nulls":41},{"$f":"个人信息!B11","v":"xxx"},{"$f":"个人信息!C11","v":"父亲"},{"$f":"个人信息!D11","v":"xxxxxx"},{"$f":"个人信息!G11","v":"xxx"},{"$f":"个人信息!I11","v":"xxxxx"},{"$f":"个人信息!B12","v":"xxx"},{"$f":"个人信息!C12","v":"母亲"},{"$f":"个人信息!D12","v":"xxxxxx"},{"$f":"个人信息!G12","v":"xxx"},{"$f":"个人信息!I12","v":"xxxxx"},{"$nulls":15},{"$f":"个人信息!B28","v":"xxx"},{"$f":"个人信息!C28","v":"xxx"},{"$f":"个人信息!D28","v":"xxxxxx"},{"$f":"个人信息!H28","v":"xxx"},{"$f":"个人信息!J28","v":"xx"}]